BEGIN:VCALENDAR
VERSION:2.0
PRODID:-//ChamberMaster//Event Calendar 2.0//EN
METHOD:PUBLISH
X-PUBLISHED-TTL:P3D
REFRESH-INTERVAL:P3D
CALSCALE:GREGORIAN
BEGIN:VEVENT
DTSTART:20260808T000000Z
DTEND:20260808T023000Z
X-MICROSOFT-CDO-ALLDAYEVENT:FALSE
SUMMARY:Thunderstruck – America’s AC/DC Tribute
DESCRIPTION:Thunderstruck: America's AC/DC Tribute gives fans so much more than the sound of AC/DC\, they truly capture the high voltage energy and experience! For fans\, it's about a sense of familiarity\, and it's about a feeling that snatches up listeners and takes over. It's about a contagious kind of power and electricity that few AC/DC tribute bands can provide.
X-ALT-DESC;FMTTYPE=text/html:Thunderstruck: America&#39\;s AC/DC Tribute gives fans so much more than the sound of AC/DC\, they truly capture the high voltage energy and experience! For fans\, it&#39\;s about a sense of familiarity\, and it&#39\;s about a feeling that snatches up listeners and takes over. It&#39\;s about a contagious kind of power and electricity that few AC/DC tribute bands can provide.
LOCATION:Sherman Theater 524 Main Street Stroudsburg\, PA 18360
UID:e.3423.5524
SEQUENCE:3
DTSTAMP:20260421T115118Z
URL:https://business.poconochamber.org/events/details/thunderstruck-america-s-ac-dc-tribute-5524
END:VEVENT

END:VCALENDAR
