BEGIN:VCALENDAR
VERSION:2.0
PRODID:-//ChamberMaster//Event Calendar 2.0//EN
METHOD:PUBLISH
X-PUBLISHED-TTL:P3D
REFRESH-INTERVAL:P3D
CALSCALE:GREGORIAN
BEGIN:VEVENT
DTSTART:20260822T000000Z
DTEND:20260822T023000Z
X-MICROSOFT-CDO-ALLDAYEVENT:FALSE
SUMMARY:Sabbath – Long Live OZZY
DESCRIPTION:Long Live OZZY ! A complete concert recreation of Black Sabbath's 50 Years featuring the Ozzy Era + Ozzy classics & Hits with a taste of DIO! Performed Note for Note to Album Perfection with exact equipment and tones!
X-ALT-DESC;FMTTYPE=text/html:Long Live OZZY ! A complete concert recreation of Black Sabbath&#39\;s 50 Years featuring the Ozzy Era + Ozzy classics &amp\; Hits with a taste of DIO! Performed Note for Note to Album Perfection with exact equipment and tones!
LOCATION:Sherman Theater 524 Main Street Stroudsburg\, PA 18360
UID:e.3423.5535
SEQUENCE:3
DTSTAMP:20260421T073002Z
URL:https://business.poconochamber.org/events/details/sabbath-long-live-ozzy-5535
END:VEVENT

END:VCALENDAR
