BEGIN:VCALENDAR
VERSION:2.0
PRODID:-//ChamberMaster//Event Calendar 2.0//EN
METHOD:PUBLISH
X-PUBLISHED-TTL:P3D
REFRESH-INTERVAL:P3D
CALSCALE:GREGORIAN
BEGIN:VEVENT
DTSTART:20260719T000000Z
DTEND:20260719T023000Z
X-MICROSOFT-CDO-ALLDAYEVENT:FALSE
SUMMARY:Pinky's Brains
DESCRIPTION:Pinky's Brains\, F.T.S\, and School Friends are headed to the Sherman Showcase on July 18th!
X-ALT-DESC;FMTTYPE=text/html:Pinky&rsquo\;s Brains\, F.T.S\, and School Friends are headed to the Sherman Showcase on July 18th!
LOCATION:Sherman Showcase 522 Main Street Stroudsburg\, PA 18360
UID:e.3423.5528
SEQUENCE:3
DTSTAMP:20260419T121443Z
URL:https://business.poconochamber.org/events/details/pinky-s-brains-07-18-2026-5528
END:VEVENT

END:VCALENDAR
