BEGIN:VCALENDAR
VERSION:2.0
PRODID:-//ChamberMaster//Event Calendar 2.0//EN
METHOD:PUBLISH
X-PUBLISHED-TTL:P3D
REFRESH-INTERVAL:P3D
CALSCALE:GREGORIAN
BEGIN:VEVENT
DTSTART:20260808T190000Z
DTEND:20260808T220000Z
X-MICROSOFT-CDO-ALLDAYEVENT:FALSE
SUMMARY:Let’s Sing Taylor – An Unofficial Live Tribute Show
DESCRIPTION:Let's Sing Taylor - A Live Band Experience - is the ultimate tribute to the music of Taylor Swift. We can show you incredible things\, including the most faithful and lively covers of Queen Taylor's expansive and sacred catalog. Taking the country by storm\, we're bringing the communal experience of celebrating Taylor's music in a live setting to Swifties near and far. So\, let the games begin. Calling all Swifties to sing your hearts out and sport your Taylor inspired attire. You can show up at our party any time. Let's Sing Taylor is fan-sponsored and not endorsed by\, directly affiliated with\, maintained\, authorized\, or sponsored by TAS Rights Management\, Taylor Swift\, or their affiliated entities.
X-ALT-DESC;FMTTYPE=text/html:Let&rsquo\;s Sing Taylor - A Live Band Experience - is the ultimate tribute to the music of Taylor Swift. We can show you incredible things\, including the most faithful and lively covers of Queen Taylor&rsquo\;s expansive and sacred catalog. Taking the country by storm\, we&rsquo\;re bringing the communal experience of celebrating Taylor&rsquo\;s music in a live setting to Swifties near and far. So\, let the games begin. Calling all Swifties to sing your hearts out and sport your Taylor inspired attire. You can show up at our party any time. Let&rsquo\;s Sing Taylor is fan-sponsored and not endorsed by\, directly affiliated with\, maintained\, authorized\, or sponsored by TAS Rights Management\, Taylor Swift\, or their affiliated entities.
LOCATION:Sherman Theater 524 Main Street Stroudsburg\, PA 18360
UID:e.3423.5534
SEQUENCE:3
DTSTAMP:20260421T040736Z
URL:https://business.poconochamber.org/events/details/let-s-sing-taylor-an-unofficial-live-tribute-show-5534
END:VEVENT

END:VCALENDAR
