BEGIN:VCALENDAR
VERSION:2.0
PRODID:-//ChamberMaster//Event Calendar 2.0//EN
METHOD:PUBLISH
X-PUBLISHED-TTL:P3D
REFRESH-INTERVAL:P3D
CALSCALE:GREGORIAN
BEGIN:VEVENT
DTSTART:20260802T000000Z
DTEND:20260802T023000Z
X-MICROSOFT-CDO-ALLDAYEVENT:FALSE
SUMMARY:Elton vs Billy – Elton John / Billy Joel Tribute
DESCRIPTION:Get ready for an electrifying tribute experience as Philadelphia Freedom: A Tribute to Elton John presents Elton VS. Billy\, a spectacular celebration of two of the greatest singer-songwriters of all time: Elton John and Billy Joel! Doug Delescavage channels the magic of Sir Elton\, then the stage ignites with the dynamic energy of special guest Danny V. a veteran performer from the renowned 52nd Street Band: A Tribute to Billy Joel. Prepare for an unforgettable night of hits like "Rocket Man\," "Piano Man\," "Bennie and the Jets\," and "New York State of Mind." This isn't just a concert\; it's a high-octane musical showdown! Don't miss the chance to hear these iconic catalogs performed live.
X-ALT-DESC;FMTTYPE=text/html:Get ready for an electrifying tribute experience as Philadelphia Freedom: A Tribute to Elton John presents Elton VS. Billy\, a spectacular celebration of two of the greatest singer-songwriters of all time: Elton John and Billy Joel! Doug Delescavage channels the magic of Sir Elton\, then the stage ignites with the dynamic energy of special guest Danny V.&mdash\;a veteran performer from the renowned 52nd Street Band: A Tribute to Billy Joel. Prepare for an unforgettable night of hits like &quot\;Rocket Man\,&quot\; &quot\;Piano Man\,&quot\; &quot\;Bennie and the Jets\,&quot\; and &quot\;New York State of Mind.&quot\; This isn&#39\;t just a concert\; it&#39\;s a high-octane musical showdown! Don&#39\;t miss the chance to hear these iconic catalogs performed live.
LOCATION:Sherman Theater 524 Main Street Stroudsburg\, PA 18360
UID:e.3423.5533
SEQUENCE:3
DTSTAMP:20260421T072952Z
URL:https://business.poconochamber.org/events/details/elton-vs-billy-elton-john-billy-joel-tribute-5533
END:VEVENT

END:VCALENDAR
